BEGIN:VCALENDAR
VERSION:2.0
PRODID:-//Iowa Democratic Party - 3rd Congressional District - ECPv6.15.11//NONSGML v1.0//EN
CALSCALE:GREGORIAN
METHOD:PUBLISH
X-ORIGINAL-URL:https://idp3rd.org
X-WR-CALDESC:Events for Iowa Democratic Party - 3rd Congressional District
REFRESH-INTERVAL;VALUE=DURATION:PT1H
X-Robots-Tag:noindex
X-PUBLISHED-TTL:PT1H
BEGIN:VTIMEZONE
TZID:America/Chicago
BEGIN:DAYLIGHT
TZOFFSETFROM:-0600
TZOFFSETTO:-0500
TZNAME:CDT
DTSTART:20230312T080000
END:DAYLIGHT
BEGIN:STANDARD
TZOFFSETFROM:-0500
TZOFFSETTO:-0600
TZNAME:CST
DTSTART:20231105T070000
END:STANDARD
BEGIN:DAYLIGHT
TZOFFSETFROM:-0600
TZOFFSETTO:-0500
TZNAME:CDT
DTSTART:20240310T080000
END:DAYLIGHT
BEGIN:STANDARD
TZOFFSETFROM:-0500
TZOFFSETTO:-0600
TZNAME:CST
DTSTART:20241103T070000
END:STANDARD
BEGIN:DAYLIGHT
TZOFFSETFROM:-0600
TZOFFSETTO:-0500
TZNAME:CDT
DTSTART:20250309T080000
END:DAYLIGHT
BEGIN:STANDARD
TZOFFSETFROM:-0500
TZOFFSETTO:-0600
TZNAME:CST
DTSTART:20251102T070000
END:STANDARD
BEGIN:DAYLIGHT
TZOFFSETFROM:-0600
TZOFFSETTO:-0500
TZNAME:CDT
DTSTART:20260308T080000
END:DAYLIGHT
BEGIN:STANDARD
TZOFFSETFROM:-0500
TZOFFSETTO:-0600
TZNAME:CST
DTSTART:20261101T070000
END:STANDARD
END:VTIMEZONE
BEGIN:VEVENT
DTSTART;TZID=America/Chicago:20241105T070000
DTEND;TZID=America/Chicago:20241105T200000
DTSTAMP:20260425T071735
CREATED:20240116T233915Z
LAST-MODIFIED:20240116T233915Z
UID:5449-1730790000-1730836800@idp3rd.org
SUMMARY:ELECTION DAY
DESCRIPTION:Absentee Ballots must physically be in county election offices by 8 pm (postmarks do not count).\nYou may also surrender your ballot at the polling location and vote in person.
URL:https://idp3rd.org/event/election-day/
LOCATION:County Election Offices
CATEGORIES:Adair County,Adams County,Appanoose County,Cass County,Clarke County,Dallas County,Davis County,Decatur County,Greene County,Guthrie County,Lucas County,Madison County,Monroe County,Montgomery County,Page County,Polk County,Ringgold County,Taylor County,Union County,Voting,Wapello County,Wayne County
ATTACH;FMTTYPE=image/png:https://idp3rd.org/wp-content/uploads/2024/01/Vote-2024-16-9-aspect-ratio-@-72-ppi.png
END:VEVENT
BEGIN:VEVENT
DTSTART;TZID=America/Chicago:20250504T140000
DTEND;TZID=America/Chicago:20250504T150000
DTSTAMP:20260425T071735
CREATED:20250409T211617Z
LAST-MODIFIED:20250409T213855Z
UID:8315-1746367200-1746370800@idp3rd.org
SUMMARY:Ringgold Co. Monthly C. C. Meeting
DESCRIPTION:Ringgold Co. Monthly Central Committee meeting
URL:https://idp3rd.org/event/ringgold-monthly-central-committee-meeting/
LOCATION:Martha Landphair’s House\, 1204 E. Columbus St.\, Mount Ayr\, IA\, United States
CATEGORIES:Ringgold County
END:VEVENT
BEGIN:VEVENT
DTSTART;TZID=America/Chicago:20250826T080000
DTEND;TZID=America/Chicago:20251020T170000
DTSTAMP:20260425T071735
CREATED:20250902T203018Z
LAST-MODIFIED:20250902T203018Z
UID:9302-1756195200-1760979600@idp3rd.org
SUMMARY:Request Absentee Ballot (County Auditor)
DESCRIPTION:Absentee ballots for the November 2025 City-School Election can be requested from your County Auditor:\nstarting Tuesday\, August 26\nthrough 5:00 pm Monday\, October 20
URL:https://idp3rd.org/event/request-absentee-ballot-county-auditor/
LOCATION:Multiple
CATEGORIES:3rd District,Adair County,Adams County,Appanoose County,Cass County,Clarke County,Dallas County,Davis County,Decatur County,Greene County,Guthrie County,Lucas County,Madison County,Monroe County,Montgomery County,Page County,Polk County,Ringgold County,Taylor County,Union County,Wapello County,Wayne County
ATTACH;FMTTYPE=image/png:https://idp3rd.org/wp-content/uploads/2022/08/CD3-VOTE.png
END:VEVENT
BEGIN:VEVENT
DTSTART;TZID=America/Chicago:20251015T080000
DTEND;TZID=America/Chicago:20251103T170000
DTSTAMP:20260425T071735
CREATED:20250902T203835Z
LAST-MODIFIED:20250902T203835Z
UID:9307-1760515200-1762189200@idp3rd.org
SUMMARY:Absentee Voting
DESCRIPTION:Wednesday\, October 15: First Day of Absentee Voting\nMonday\, November 3: Absentee Ballot In-Person Deadline\nTuesday\, November 4: Absentee Ballots Receipt Deadline (Election Day)
URL:https://idp3rd.org/event/absentee-voting/
LOCATION:Multiple
CATEGORIES:3rd District,Adair County,Adams County,Appanoose County,Cass County,Clarke County,Dallas County,Davis County,Decatur County,Greene County,Guthrie County,Lucas County,Madison County,Monroe County,Montgomery County,Page County,Polk County,Ringgold County,Taylor County,Union County,Wapello County,Wayne County
ATTACH;FMTTYPE=image/png:https://idp3rd.org/wp-content/uploads/2022/08/CD3-VOTE.png
END:VEVENT
END:VCALENDAR