BEGIN:VCALENDAR
VERSION:2.0
PRODID:-//Iowa Democratic Party - 3rd Congressional District - ECPv6.15.11//NONSGML v1.0//EN
CALSCALE:GREGORIAN
METHOD:PUBLISH
X-ORIGINAL-URL:https://idp3rd.org
X-WR-CALDESC:Events for Iowa Democratic Party - 3rd Congressional District
REFRESH-INTERVAL;VALUE=DURATION:PT1H
X-Robots-Tag:noindex
X-PUBLISHED-TTL:PT1H
BEGIN:VTIMEZONE
TZID:America/Chicago
BEGIN:DAYLIGHT
TZOFFSETFROM:-0600
TZOFFSETTO:-0500
TZNAME:CDT
DTSTART:20240310T080000
END:DAYLIGHT
BEGIN:STANDARD
TZOFFSETFROM:-0500
TZOFFSETTO:-0600
TZNAME:CST
DTSTART:20241103T070000
END:STANDARD
BEGIN:DAYLIGHT
TZOFFSETFROM:-0600
TZOFFSETTO:-0500
TZNAME:CDT
DTSTART:20250309T080000
END:DAYLIGHT
BEGIN:STANDARD
TZOFFSETFROM:-0500
TZOFFSETTO:-0600
TZNAME:CST
DTSTART:20251102T070000
END:STANDARD
BEGIN:DAYLIGHT
TZOFFSETFROM:-0600
TZOFFSETTO:-0500
TZNAME:CDT
DTSTART:20260308T080000
END:DAYLIGHT
BEGIN:STANDARD
TZOFFSETFROM:-0500
TZOFFSETTO:-0600
TZNAME:CST
DTSTART:20261101T070000
END:STANDARD
END:VTIMEZONE
BEGIN:VEVENT
DTSTART;VALUE=DATE:20250804
DTEND;VALUE=DATE:20250805
DTSTAMP:20260422T184336
CREATED:20250531T141719Z
LAST-MODIFIED:20250531T141719Z
UID:8694-1754265600-1754351999@idp3rd.org
SUMMARY:Let's Talk Gathering
DESCRIPTION:Time to talk\, share resources\, plan\, and act for electing democrats. \nYou have two time options:\n3:30 pm & 6:30 pm
URL:https://idp3rd.org/event/lets-talk-gathering-2/
LOCATION:Stoneridge Condos\, Clubhouse\, 1100 50th St.\, West Des Moines\, IA\, 50266
CATEGORIES:Polk County,West Des Moines Democrats
END:VEVENT
BEGIN:VEVENT
DTSTART;TZID=America/Chicago:20250825T153000
DTEND;TZID=America/Chicago:20250825T170000
DTSTAMP:20260422T184336
CREATED:20250531T140400Z
LAST-MODIFIED:20250531T141747Z
UID:8689-1756135800-1756141200@idp3rd.org
SUMMARY:Let's Talk Gathering
DESCRIPTION:Time to talk\, share resources\, plan\, and act for electing democrats. \nYou have two time options:\n3:30 pm & 6:30 pm
URL:https://idp3rd.org/event/lets-talk-gathering/
LOCATION:Stoneridge Condos\, Clubhouse\, 1100 50th St.\, West Des Moines\, IA\, 50266
CATEGORIES:Polk County,West Des Moines Democrats
END:VEVENT
END:VCALENDAR