BEGIN:VCALENDAR
VERSION:2.0
PRODID:-//Iowa Democratic Party - 3rd Congressional District - ECPv6.15.11//NONSGML v1.0//EN
CALSCALE:GREGORIAN
METHOD:PUBLISH
X-ORIGINAL-URL:https://idp3rd.org
X-WR-CALDESC:Events for Iowa Democratic Party - 3rd Congressional District
REFRESH-INTERVAL;VALUE=DURATION:PT1H
X-Robots-Tag:noindex
X-PUBLISHED-TTL:PT1H
BEGIN:VTIMEZONE
TZID:America/Chicago
BEGIN:DAYLIGHT
TZOFFSETFROM:-0600
TZOFFSETTO:-0500
TZNAME:CDT
DTSTART:20200308T080000
END:DAYLIGHT
BEGIN:STANDARD
TZOFFSETFROM:-0500
TZOFFSETTO:-0600
TZNAME:CST
DTSTART:20201101T070000
END:STANDARD
BEGIN:DAYLIGHT
TZOFFSETFROM:-0600
TZOFFSETTO:-0500
TZNAME:CDT
DTSTART:20210314T080000
END:DAYLIGHT
BEGIN:STANDARD
TZOFFSETFROM:-0500
TZOFFSETTO:-0600
TZNAME:CST
DTSTART:20211107T070000
END:STANDARD
BEGIN:DAYLIGHT
TZOFFSETFROM:-0600
TZOFFSETTO:-0500
TZNAME:CDT
DTSTART:20220313T080000
END:DAYLIGHT
BEGIN:STANDARD
TZOFFSETFROM:-0500
TZOFFSETTO:-0600
TZNAME:CST
DTSTART:20221106T070000
END:STANDARD
END:VTIMEZONE
BEGIN:VEVENT
DTSTART;TZID=America/Chicago:20210904T090000
DTEND;TZID=America/Chicago:20210904T110000
DTSTAMP:20260420T212026
CREATED:20210830T194234Z
LAST-MODIFIED:20210830T194234Z
UID:865-1630746000-1630753200@idp3rd.org
SUMMARY:Pleasant Hill Parade
DESCRIPTION:Join your Polk County Dems as we march in the Family Fun Fest Parade for Pleasant Hill!\nThe parade starts at Doanes Park at 10:00 AM and will end at City Hall.\nAll Democrats are welcome!
URL:https://idp3rd.org/event/pleasant-hill-parade/
LOCATION:Doanes Park\, 5 Pleasant Hill Blvd\, Pleasant Hill\, IA
CATEGORIES:Parade,Polk County
ORGANIZER;CN="Polk County Democrats":MAILTO:polkdems@gmail.com
END:VEVENT
BEGIN:VEVENT
DTSTART;TZID=America/Chicago:20210811T181500
DTEND;TZID=America/Chicago:20210811T201500
DTSTAMP:20260420T212026
CREATED:20210806T140050Z
LAST-MODIFIED:20210806T140050Z
UID:722-1628705700-1628712900@idp3rd.org
SUMMARY:Iowa State Fair Parade
DESCRIPTION:Join the Iowa Democratic Party during the Iowa State Fair Parade! \nHeld the night before the Iowa State Fair each year\, we will be among high school marching bands\, floats\, cool cars\, and special causes as we stroll through downtown Des Moines! \nLineup will begin at 5:15pm\, and the parade will begin at 6:15 p.m in downtown Des Moines on Wednesday\, August 11\, 2021. The parade route starts at the State Capitol Complex and marches west on Grand to 15th Street\, and the Iowa Democratic Party will be set up at Lot 18 on Des Moines Street and East 12th Street. \nOnly vehicles that will be traveling down the parade route will be allowed on the Capitol complex. Parade participants that will be riding with someone else or walking should park near the end of the route\, at the State Fairgrounds. There is an option of taking the free “D-Line” shuttle to the parade until 6:00pm\, and riders can find stops along Grand Avenue and Locust Street. \nThrowing or handing out candy\, water balloons\, promotional material or any other items from entry is prohibited. \nMasks are welcome! \nCome and join fellow Democrats as we march through downtown Des Moines\, and enjoy the celebration!
URL:https://idp3rd.org/event/iowa-state-fair-parade/
LOCATION:Iowa State Capitol\, 1007 E Grand Ave\, Des Moines\, Iowa\, 50319
CATEGORIES:Parade,Polk County
END:VEVENT
END:VCALENDAR