BEGIN:VCALENDAR
VERSION:2.0
PRODID:-//Iowa Democratic Party - 3rd Congressional District - ECPv6.15.11//NONSGML v1.0//EN
CALSCALE:GREGORIAN
METHOD:PUBLISH
X-WR-CALNAME:Iowa Democratic Party - 3rd Congressional District
X-ORIGINAL-URL:https://idp3rd.org
X-WR-CALDESC:Events for Iowa Democratic Party - 3rd Congressional District
REFRESH-INTERVAL;VALUE=DURATION:PT1H
X-Robots-Tag:noindex
X-PUBLISHED-TTL:PT1H
BEGIN:VTIMEZONE
TZID:America/Chicago
BEGIN:DAYLIGHT
TZOFFSETFROM:-0600
TZOFFSETTO:-0500
TZNAME:CDT
DTSTART:20240310T080000
END:DAYLIGHT
BEGIN:STANDARD
TZOFFSETFROM:-0500
TZOFFSETTO:-0600
TZNAME:CST
DTSTART:20241103T070000
END:STANDARD
BEGIN:DAYLIGHT
TZOFFSETFROM:-0600
TZOFFSETTO:-0500
TZNAME:CDT
DTSTART:20250309T080000
END:DAYLIGHT
BEGIN:STANDARD
TZOFFSETFROM:-0500
TZOFFSETTO:-0600
TZNAME:CST
DTSTART:20251102T070000
END:STANDARD
BEGIN:DAYLIGHT
TZOFFSETFROM:-0600
TZOFFSETTO:-0500
TZNAME:CDT
DTSTART:20260308T080000
END:DAYLIGHT
BEGIN:STANDARD
TZOFFSETFROM:-0500
TZOFFSETTO:-0600
TZNAME:CST
DTSTART:20261101T070000
END:STANDARD
END:VTIMEZONE
BEGIN:VEVENT
DTSTART;TZID=America/Chicago:20250818T183000
DTEND;TZID=America/Chicago:20250818T183000
DTSTAMP:20260419T200916
CREATED:20250816T015204Z
LAST-MODIFIED:20250816T015204Z
UID:9262-1755541800-1755541800@idp3rd.org
SUMMARY:Monroe County Democrats Meeting
DESCRIPTION:The Aug. meeting of the Monroe County Democrats will be Monday\, Aug. 18 at the Albia Chamber Office on the Square\, 18 South Main\, rear entrance.  The meeting starts at 7 PM\, but join us at 6:30 for socializing and optional potluck (food encouraged but not required).\n\nOur guest speaker will be Heather Ryan of Bitches Get Stuff Done.  The group is one of the most prominent activist groups in Iowa.  Hear about activism across the state and learn about the upcoming town hall tour featuring a stop in Ottumwa.  Their FaceBook page is Bxtchesgetstuffdone .
URL:https://idp3rd.org/event/monroe-county-democrats-meeting-2/
LOCATION:Albia Area Chamber of Commerce\, 18 S. Main Street\, Albia\, IA
CATEGORIES:Monroe County
END:VEVENT
END:VCALENDAR