BEGIN:VCALENDAR
VERSION:2.0
PRODID:-//Iowa Democratic Party - 3rd Congressional District - ECPv6.15.11//NONSGML v1.0//EN
CALSCALE:GREGORIAN
METHOD:PUBLISH
X-ORIGINAL-URL:https://idp3rd.org
X-WR-CALDESC:Events for Iowa Democratic Party - 3rd Congressional District
REFRESH-INTERVAL;VALUE=DURATION:PT1H
X-Robots-Tag:noindex
X-PUBLISHED-TTL:PT1H
BEGIN:VTIMEZONE
TZID:America/Chicago
BEGIN:DAYLIGHT
TZOFFSETFROM:-0600
TZOFFSETTO:-0500
TZNAME:CDT
DTSTART:20200308T080000
END:DAYLIGHT
BEGIN:STANDARD
TZOFFSETFROM:-0500
TZOFFSETTO:-0600
TZNAME:CST
DTSTART:20201101T070000
END:STANDARD
BEGIN:DAYLIGHT
TZOFFSETFROM:-0600
TZOFFSETTO:-0500
TZNAME:CDT
DTSTART:20210314T080000
END:DAYLIGHT
BEGIN:STANDARD
TZOFFSETFROM:-0500
TZOFFSETTO:-0600
TZNAME:CST
DTSTART:20211107T070000
END:STANDARD
BEGIN:DAYLIGHT
TZOFFSETFROM:-0600
TZOFFSETTO:-0500
TZNAME:CDT
DTSTART:20220313T080000
END:DAYLIGHT
BEGIN:STANDARD
TZOFFSETFROM:-0500
TZOFFSETTO:-0600
TZNAME:CST
DTSTART:20221106T070000
END:STANDARD
BEGIN:DAYLIGHT
TZOFFSETFROM:-0600
TZOFFSETTO:-0500
TZNAME:CDT
DTSTART:20230312T080000
END:DAYLIGHT
BEGIN:STANDARD
TZOFFSETFROM:-0500
TZOFFSETTO:-0600
TZNAME:CST
DTSTART:20231105T070000
END:STANDARD
END:VTIMEZONE
BEGIN:VEVENT
DTSTART;TZID=America/Chicago:20220207T190000
DTEND;TZID=America/Chicago:20220207T210000
DTSTAMP:20260424T161149
CREATED:20220124T223933Z
LAST-MODIFIED:20220124T223933Z
UID:1308-1644260400-1644267600@idp3rd.org
SUMMARY:Iowa Democratic Party Gubernatorial (Midterm) County Caucuses
DESCRIPTION:Monday\, February 7\, 2022 7:00PM \nContact your county chair for locations in your county: idp3rd.org/counties
URL:https://idp3rd.org/event/iowa-democratic-party-gubernatorial-midterm-county-caucuses/
CATEGORIES:3rd District,Iowa Democratic Party
END:VEVENT
BEGIN:VEVENT
DTSTART;TZID=America/Chicago:20220131T190000
DTEND;TZID=America/Chicago:20220131T203000
DTSTAMP:20260424T161149
CREATED:20220124T223341Z
LAST-MODIFIED:20220129T211740Z
UID:1302-1643655600-1643661000@idp3rd.org
SUMMARY:3rd District Party Building Sub-Committee Meeting
DESCRIPTION:Monday\, January 31 at 7:00 PM \nThe Zoom call will be hosted by 3rd District Party Building Subcommittee chair Denise O’Brien \nRegister prior to the call at:\nhttps://us02web.zoom.us/meeting/register/tZ0pfu-prjMuH9Eg6SpFD8P8mHsEc2gyflmW
URL:https://idp3rd.org/event/3rd-district-party-building-sub-committee-meeting/
CATEGORIES:3rd District,Party Building Subcommittee,Virtual
END:VEVENT
BEGIN:VEVENT
DTSTART;TZID=America/Chicago:20220130T000000
DTEND;TZID=America/Chicago:20220130T000000
DTSTAMP:20260424T161149
CREATED:20220124T221105Z
LAST-MODIFIED:20220124T221105Z
UID:1277-1643500800-1643500800@idp3rd.org
SUMMARY:3rd District Convention Planning Sub-Committee Meeting
DESCRIPTION:Sunday January 30 Time TBD \nContact Pam Deichmann for details: pam.deichmann@gmail.com
URL:https://idp3rd.org/event/3rd-district-convention-planning-sub-committee-meeting/
CATEGORIES:3rd District
END:VEVENT
BEGIN:VEVENT
DTSTART;TZID=America/Chicago:20220108T090000
DTEND;TZID=America/Chicago:20220108T110000
DTSTAMP:20260424T161149
CREATED:20211212T201556Z
LAST-MODIFIED:20211212T203150Z
UID:1206-1641632400-1641639600@idp3rd.org
SUMMARY:IDP3rd Central Committee Meeting
DESCRIPTION:Stay tuned.  A Zoom meeting registration link will be provided as we get closer to the meeting.
URL:https://idp3rd.org/event/idp3rd-central-committee-meeting/
LOCATION:Zoom
CATEGORIES:3rd District,Virtual
END:VEVENT
BEGIN:VEVENT
DTSTART;TZID=America/Chicago:20211010T160000
DTEND;TZID=America/Chicago:20211010T180000
DTSTAMP:20260424T161149
CREATED:20210928T213904Z
LAST-MODIFIED:20211007T215838Z
UID:1144-1633881600-1633888800@idp3rd.org
SUMMARY:Workshop 2021 - Building a Blue Bench In Iowa (Session 4)
DESCRIPTION:Agenda:\n\nSilent Auction County Baskets Results\nUsing Robert’s Rules of Order\nLate-Breaking Hot Topics\n\nState Senate Update\nRedistricting Update\n2020 Debrief Update\nHughes Project Update
URL:https://idp3rd.org/event/workshop-2021-building-a-blue-bench-in-iowa-session-4/
LOCATION:Zoom
CATEGORIES:3rd District
END:VEVENT
END:VCALENDAR