BEGIN:VCALENDAR
VERSION:2.0
PRODID:-//Iowa Democratic Party - 3rd Congressional District - ECPv6.15.11//NONSGML v1.0//EN
CALSCALE:GREGORIAN
METHOD:PUBLISH
X-ORIGINAL-URL:https://idp3rd.org
X-WR-CALDESC:Events for Iowa Democratic Party - 3rd Congressional District
REFRESH-INTERVAL;VALUE=DURATION:PT1H
X-Robots-Tag:noindex
X-PUBLISHED-TTL:PT1H
BEGIN:VTIMEZONE
TZID:America/Chicago
BEGIN:DAYLIGHT
TZOFFSETFROM:-0600
TZOFFSETTO:-0500
TZNAME:CDT
DTSTART:20210314T080000
END:DAYLIGHT
BEGIN:STANDARD
TZOFFSETFROM:-0500
TZOFFSETTO:-0600
TZNAME:CST
DTSTART:20211107T070000
END:STANDARD
BEGIN:DAYLIGHT
TZOFFSETFROM:-0600
TZOFFSETTO:-0500
TZNAME:CDT
DTSTART:20220313T080000
END:DAYLIGHT
BEGIN:STANDARD
TZOFFSETFROM:-0500
TZOFFSETTO:-0600
TZNAME:CST
DTSTART:20221106T070000
END:STANDARD
BEGIN:DAYLIGHT
TZOFFSETFROM:-0600
TZOFFSETTO:-0500
TZNAME:CDT
DTSTART:20230312T080000
END:DAYLIGHT
BEGIN:STANDARD
TZOFFSETFROM:-0500
TZOFFSETTO:-0600
TZNAME:CST
DTSTART:20231105T070000
END:STANDARD
END:VTIMEZONE
BEGIN:VEVENT
DTSTART;TZID=America/Chicago:20220501T140000
DTEND;TZID=America/Chicago:20220501T160000
DTSTAMP:20260420T114247
CREATED:20220404T184141Z
LAST-MODIFIED:20220427T022503Z
UID:1541-1651413600-1651420800@idp3rd.org
SUMMARY:3rd District Democrats Central Committee Meeting
DESCRIPTION:In standard practice\, we alternate between Saturday mornings and Sunday afternoons to ensure equal participation. The Second Quarter meeting will be on Sunday\, May 1st at 2:00 PM. \nREGISTER HERE: https://us02web.zoom.us/meeting/register/tZAlfuyuqzkqHdOhO7f0kci9y2vzC3I3gVKG\n\nWe look forward to seeing you virtually on Sunday\, May 1st. Let us know if you have any questions or accommodation needs by emailing cd3.idp@gmail.com.
URL:https://idp3rd.org/event/3rd-district-democrats-central-committee-meeting/
CATEGORIES:3rd District
END:VEVENT
BEGIN:VEVENT
DTSTART;TZID=America/Chicago:20220516T190000
DTEND;TZID=America/Chicago:20220516T200000
DTSTAMP:20260420T114247
CREATED:20220412T024155Z
LAST-MODIFIED:20220412T024155Z
UID:1553-1652727600-1652731200@idp3rd.org
SUMMARY:3rd District Party Building Subcommittee Meeting
DESCRIPTION:Please contact Denise O’Brien (casscountyiadems@gmail.com) for zoom link.
URL:https://idp3rd.org/event/3rd-district-party-building-subcommittee-meeting-2/
LOCATION:Zoom
CATEGORIES:3rd District
END:VEVENT
BEGIN:VEVENT
DTSTART;TZID=America/Chicago:20220525T180000
DTEND;TZID=America/Chicago:20220525T183000
DTSTAMP:20260420T114247
CREATED:20220514T163121Z
LAST-MODIFIED:20220514T163121Z
UID:1782-1653501600-1653503400@idp3rd.org
SUMMARY:District Central Committee Special Meeting
DESCRIPTION:Register in advance for this meeting:\nhttps://us02web.zoom.us/meeting/register/tZUpfu2orTwtGtFLpg5C3-1anPL5pHMBqdNu\n\nAfter registering\, you will receive a confirmation email containing information about joining the meeting.
URL:https://idp3rd.org/event/district-central-committee-special-meeting/
LOCATION:Zoom
CATEGORIES:3rd District
END:VEVENT
END:VCALENDAR