BEGIN:VCALENDAR
VERSION:2.0
PRODID:-//Iowa Democratic Party - 3rd Congressional District - ECPv6.15.11//NONSGML v1.0//EN
CALSCALE:GREGORIAN
METHOD:PUBLISH
X-ORIGINAL-URL:https://idp3rd.org
X-WR-CALDESC:Events for Iowa Democratic Party - 3rd Congressional District
REFRESH-INTERVAL;VALUE=DURATION:PT1H
X-Robots-Tag:noindex
X-PUBLISHED-TTL:PT1H
BEGIN:VTIMEZONE
TZID:America/Chicago
BEGIN:DAYLIGHT
TZOFFSETFROM:-0600
TZOFFSETTO:-0500
TZNAME:CDT
DTSTART:20220313T080000
END:DAYLIGHT
BEGIN:STANDARD
TZOFFSETFROM:-0500
TZOFFSETTO:-0600
TZNAME:CST
DTSTART:20221106T070000
END:STANDARD
BEGIN:DAYLIGHT
TZOFFSETFROM:-0600
TZOFFSETTO:-0500
TZNAME:CDT
DTSTART:20230312T080000
END:DAYLIGHT
BEGIN:STANDARD
TZOFFSETFROM:-0500
TZOFFSETTO:-0600
TZNAME:CST
DTSTART:20231105T070000
END:STANDARD
BEGIN:DAYLIGHT
TZOFFSETFROM:-0600
TZOFFSETTO:-0500
TZNAME:CDT
DTSTART:20240310T080000
END:DAYLIGHT
BEGIN:STANDARD
TZOFFSETFROM:-0500
TZOFFSETTO:-0600
TZNAME:CST
DTSTART:20241103T070000
END:STANDARD
BEGIN:DAYLIGHT
TZOFFSETFROM:-0600
TZOFFSETTO:-0500
TZNAME:CDT
DTSTART:20250309T080000
END:DAYLIGHT
BEGIN:STANDARD
TZOFFSETFROM:-0500
TZOFFSETTO:-0600
TZNAME:CST
DTSTART:20251102T070000
END:STANDARD
BEGIN:DAYLIGHT
TZOFFSETFROM:-0600
TZOFFSETTO:-0500
TZNAME:CDT
DTSTART:20260308T080000
END:DAYLIGHT
BEGIN:STANDARD
TZOFFSETFROM:-0500
TZOFFSETTO:-0600
TZNAME:CST
DTSTART:20261101T070000
END:STANDARD
END:VTIMEZONE
BEGIN:VEVENT
DTSTART;TZID=America/Chicago:20230924T120000
DTEND;TZID=America/Chicago:20230924T150000
DTSTAMP:20260424T082901
CREATED:20230823T134938Z
LAST-MODIFIED:20230823T135013Z
UID:4592-1695556800-1695567600@idp3rd.org
SUMMARY:Bingo Fundraiser
DESCRIPTION:Join our Sunday afternoon Bingo. \nWe will start with lunch. Bring a dish.  Meat provided.
URL:https://idp3rd.org/event/bingo-fundraiser/
LOCATION:Jim and Vicki Nordskog home\, 3203 Sunnyside Lane\, Atlantic\, 50022
CATEGORIES:Cass County,Fundraiser,Social
ATTACH;FMTTYPE=image/jpeg:https://idp3rd.org/wp-content/uploads/2023/08/Cass-County-Logo.jpg
ORGANIZER;CN="Cass County Democrats":MAILTO:casscountyiadems@gmail.com
END:VEVENT
BEGIN:VEVENT
DTSTART;TZID=America/Chicago:20230930T113000
DTEND;TZID=America/Chicago:20230930T150000
DTSTAMP:20260424T082901
CREATED:20230126T180012Z
LAST-MODIFIED:20230126T180012Z
UID:4103-1696073400-1696086000@idp3rd.org
SUMMARY:Steak Fry 2023
DESCRIPTION:Join your fellow Democrats from across Iowa as we celebrate the 2023 Steak Fry! We’ll be welcoming a special headliner along with our statewide and statehouse candidates. \nhttps://www.polkdems.com/event-details/steak-fry-2023
URL:https://idp3rd.org/event/steak-fry-2023/
LOCATION:Des Moines Water Works Park\, 2201 George Flagg Pkwy\, Des Moines\, IA
CATEGORIES:Fundraiser,Polk County
END:VEVENT
BEGIN:VEVENT
DTSTART;TZID=America/Chicago:20231119T180000
DTEND;TZID=America/Chicago:20231119T200000
DTSTAMP:20260424T082901
CREATED:20231110T034143Z
LAST-MODIFIED:20231110T034143Z
UID:4805-1700416800-1700424000@idp3rd.org
SUMMARY:Fundraiser for Nicole Loew
DESCRIPTION:Meet Nicole Loew\, candidate for Iowa Senate District 12. \nShe will tell you her story. \n\nMom\nWife\nRN\nPhD\, Nursing Science\nRural woman
URL:https://idp3rd.org/event/fundraiser-for-nicole-loew/
LOCATION:Racoon River Park Nature Center\, 2500 Grand Avenue\, West Des Moines\, IA
CATEGORIES:Fundraiser,Polk County
END:VEVENT
BEGIN:VEVENT
DTSTART;TZID=America/Chicago:20240414T153000
DTEND;TZID=America/Chicago:20240414T153000
DTSTAMP:20260424T082901
CREATED:20240104T170059Z
LAST-MODIFIED:20240328T172143Z
UID:5341-1713108600-1713108600@idp3rd.org
SUMMARY:"Spirits" of Freedom Fundraiser
DESCRIPTION:Fundraiser for Nicole Loew\, running for Senate District 12 against Amy Sinclair\nSpeakers:\n\nSenator Sarah Trone Garriott\nSenator Pam Jochum\nIA House Candidate Karen Varley\nIA House Candidate Sonya Hicks\nUS House Candidate Lanon Baccam\nUS House Candidate Melissa Vine\n\nHors D’Oeurves\nLive Music\nSilent Auction \nTickets at:\nhttps://secure.actblue.com/donate/spirits-of-freedom
URL:https://idp3rd.org/event/nicole-loew-fundraiser/
LOCATION:Revelton Distillery\, 1400 W Clay St.\, Osceola\, IA
CATEGORIES:Clarke County,Fundraiser
ATTACH;FMTTYPE=image/jpeg:https://idp3rd.org/wp-content/uploads/2024/03/Spirits-of-Freedom.jpg
END:VEVENT
BEGIN:VEVENT
DTSTART;TZID=America/Chicago:20250522T173000
DTEND;TZID=America/Chicago:20250522T210000
DTSTAMP:20260424T082901
CREATED:20250324T165249Z
LAST-MODIFIED:20250409T214016Z
UID:8197-1747935000-1747947600@idp3rd.org
SUMMARY:Dallas Co. Spring Dinner-Leading the Way
DESCRIPTION:Spring Dinner-Leading the Way fundraiser for Dallas County.\nDinner\, band\, Keynote Tom Vilsack\, other speakers.\nTickets: $50.00
URL:https://idp3rd.org/event/spring-dinner-leading-the-way/
LOCATION:Country Lane Lodge\, 29300 Prospect Circle\, Adel\, IA\, 50003
CATEGORIES:Dallas County,Fundraiser
END:VEVENT
BEGIN:VEVENT
DTSTART;TZID=America/Chicago:20251017T170000
DTEND;TZID=America/Chicago:20251017T200000
DTSTAMP:20260424T082901
CREATED:20251009T193754Z
LAST-MODIFIED:20251009T193754Z
UID:9638-1760720400-1760731200@idp3rd.org
SUMMARY:Wapello County Spaghetti Dinner
DESCRIPTION:We are holding our spaghetti dinner to raise money for the Wapello county Democrats.\nState Representative Mike Zimmer will be speaking along with state and local candidates.
URL:https://idp3rd.org/event/wapello-county-spaghetti-dinner-2/
LOCATION:American Legion Hall\, 550 West Main\, Ottumwa\, IA\, 52501
CATEGORIES:Fundraiser,Wapello County
END:VEVENT
END:VCALENDAR