BEGIN:VCALENDAR
VERSION:2.0
PRODID:-//Iowa Democratic Party - 3rd Congressional District - ECPv6.15.11//NONSGML v1.0//EN
CALSCALE:GREGORIAN
METHOD:PUBLISH
X-WR-CALNAME:Iowa Democratic Party - 3rd Congressional District
X-ORIGINAL-URL:https://idp3rd.org
X-WR-CALDESC:Events for Iowa Democratic Party - 3rd Congressional District
REFRESH-INTERVAL;VALUE=DURATION:PT1H
X-Robots-Tag:noindex
X-PUBLISHED-TTL:PT1H
BEGIN:VTIMEZONE
TZID:America/Chicago
BEGIN:DAYLIGHT
TZOFFSETFROM:-0600
TZOFFSETTO:-0500
TZNAME:CDT
DTSTART:20210314T080000
END:DAYLIGHT
BEGIN:STANDARD
TZOFFSETFROM:-0500
TZOFFSETTO:-0600
TZNAME:CST
DTSTART:20211107T070000
END:STANDARD
BEGIN:DAYLIGHT
TZOFFSETFROM:-0600
TZOFFSETTO:-0500
TZNAME:CDT
DTSTART:20220313T080000
END:DAYLIGHT
BEGIN:STANDARD
TZOFFSETFROM:-0500
TZOFFSETTO:-0600
TZNAME:CST
DTSTART:20221106T070000
END:STANDARD
BEGIN:DAYLIGHT
TZOFFSETFROM:-0600
TZOFFSETTO:-0500
TZNAME:CDT
DTSTART:20230312T080000
END:DAYLIGHT
BEGIN:STANDARD
TZOFFSETFROM:-0500
TZOFFSETTO:-0600
TZNAME:CST
DTSTART:20231105T070000
END:STANDARD
END:VTIMEZONE
BEGIN:VEVENT
DTSTART;TZID=America/Chicago:20220710T120000
DTEND;TZID=America/Chicago:20220710T120000
DTSTAMP:20260423T150028
CREATED:20220708T171103Z
LAST-MODIFIED:20220708T171236Z
UID:3248-1657454400-1657454400@idp3rd.org
SUMMARY:Making Ice Cream for Fundraiser (Taylor County)
DESCRIPTION:Taylor County Democrats are making ice cream on Sunday\, July 10\, at the Red Barn on the Taylor County Fairgrounds. The address is 2715 Linwood Ave. We start at noon. They will sell the yummy treat at the Taylor County Fair as a fundraiser. Proceeds can help candidates. We will have to sample for quality control!
URL:https://idp3rd.org/event/making-ice-cream-for-fundraiser-taylor-county/
LOCATION:Taylor County Fairgrounds\, 2715 Linwood Ave\, Bedford\, IA\, 50833
CATEGORIES:Fundraiser,Taylor County
END:VEVENT
BEGIN:VEVENT
DTSTART;TZID=America/Chicago:20220715T180000
DTEND;TZID=America/Chicago:20220715T180000
DTSTAMP:20260423T150028
CREATED:20220704T204556Z
LAST-MODIFIED:20220704T204556Z
UID:3227-1657908000-1657908000@idp3rd.org
SUMMARY:Cass County Democrats Yard Party and Fundraiser
DESCRIPTION:The Cass County Democrats are planning an extraordinary opportunity for area Democrats to\nenjoy an evening out\, to eat\, play\, visit and hear plans for the upcoming months. Bring your\nlawn chairs and children along! \nJim and Vicki Nordskog are graciously hosting this event at their home at 3203 Sunnyside\, on\nthe south side of Atlantic. \nFor fundraising efforts\, we will have a Silent Auction AND a Baked Goods Auction – Contact\nBrad and Lorrie Rasmussen if you would like to donate to these auctions you can email them at runningrams1@gmail.com. Non-perishable auction items can be delivered by the 12th to Brad and Lorrie. \nOrder forms for newly designed Cass County Democrats T-shirts will also be available. T-Shirts\nwill be blue and will be priced at $20 each \nJohn Norwood\, our candidate for the Iowa Secretary of Agriculture will be in attendance and\nDeidre DeJear will be sending a video message. She has been to Cass County twice\, and is\nmaking many appearances across the state! We are still inviting candidates to attend. GET\nFIRED UP!! \nSupper is Potluck – please bring a side dish to share if you are able.\nWe will be providing: Grills\, Hotdogs\, Hamburgers\, Buns\, condiments\, Plates\, Flatware\, Cups\,\nand drinks (Water\, Tea and Lemonade will be provided. Bring your own beverage if you prefer\nsomething else.) We will also offer a SPECIAL treat of Falk’s Lemon Custard Ice Cream!\nA free will donation of $10 for each adult is suggested. Children under five\nfree. $5 for children older than five. \nEntertainment will include the Silent Auctions and Yard Games such as Giant Jenga\, Kube\,\nLadder golf\, Croquet\, Cornhole\, etc.\nWE CAN’T WAIT! \nRSVP to Denise at casscountyiadems@gmail.com
URL:https://idp3rd.org/event/cass-county-democrats-yard-party-and-fundraiser/
LOCATION:IA
CATEGORIES:Cass County,Fundraiser
END:VEVENT
BEGIN:VEVENT
DTSTART;TZID=America/Chicago:20220731T140000
DTEND;TZID=America/Chicago:20220731T170000
DTSTAMP:20260423T150028
CREATED:20220705T135620Z
LAST-MODIFIED:20220705T135620Z
UID:3235-1659276000-1659286800@idp3rd.org
SUMMARY:Sunday FUNDay
DESCRIPTION:Join the Urbandale Area Democrats for Sunday FUNDay on July 31 from 2-5 pm at Lions Park shelter and gazebo.  Have FUN and raise money to help elect Democrats to local\, state\, and federal offices. \nThis is a family-friendly event with activities for people of all ages. \n\nThelma’s Ice Cream Sandwiches\nBeer and Bingo for Fabulous Prizes\nGlitter Tatoos\nMagician\nUS Senate candidate Admiral Mike Franken & other speakers.\n\nTickets: Adults: $25; Under 18: $5
URL:https://idp3rd.org/event/sunday-funday/
LOCATION:Lions Park – Urbandale\, 72nd Street and Aurora Avenue\, Urbandale\, IA
CATEGORIES:Community Group,Fundraiser,Polk County
END:VEVENT
END:VCALENDAR