BEGIN:VCALENDAR
VERSION:2.0
PRODID:-//Iowa Democratic Party - 3rd Congressional District - ECPv6.15.11//NONSGML v1.0//EN
CALSCALE:GREGORIAN
METHOD:PUBLISH
X-WR-CALNAME:Iowa Democratic Party - 3rd Congressional District
X-ORIGINAL-URL:https://idp3rd.org
X-WR-CALDESC:Events for Iowa Democratic Party - 3rd Congressional District
REFRESH-INTERVAL;VALUE=DURATION:PT1H
X-Robots-Tag:noindex
X-PUBLISHED-TTL:PT1H
BEGIN:VTIMEZONE
TZID:America/Chicago
BEGIN:DAYLIGHT
TZOFFSETFROM:-0600
TZOFFSETTO:-0500
TZNAME:CDT
DTSTART:20220313T080000
END:DAYLIGHT
BEGIN:STANDARD
TZOFFSETFROM:-0500
TZOFFSETTO:-0600
TZNAME:CST
DTSTART:20221106T070000
END:STANDARD
BEGIN:DAYLIGHT
TZOFFSETFROM:-0600
TZOFFSETTO:-0500
TZNAME:CDT
DTSTART:20230312T080000
END:DAYLIGHT
BEGIN:STANDARD
TZOFFSETFROM:-0500
TZOFFSETTO:-0600
TZNAME:CST
DTSTART:20231105T070000
END:STANDARD
BEGIN:DAYLIGHT
TZOFFSETFROM:-0600
TZOFFSETTO:-0500
TZNAME:CDT
DTSTART:20240310T080000
END:DAYLIGHT
BEGIN:STANDARD
TZOFFSETFROM:-0500
TZOFFSETTO:-0600
TZNAME:CST
DTSTART:20241103T070000
END:STANDARD
END:VTIMEZONE
BEGIN:VEVENT
DTSTART;TZID=America/Chicago:20230109T170000
DTEND;TZID=America/Chicago:20230109T183000
DTSTAMP:20260420T195933
CREATED:20230114T215800Z
LAST-MODIFIED:20230114T220531Z
UID:4066-1673283600-1673289000@idp3rd.org
SUMMARY:Adair Central Committee Meeting
DESCRIPTION:Monthly meeting of Adair County Democratic Central Committee \nAgenda: \n\nSet 2023 calendar and budget.\nPlan speaking events for winter and spring.
URL:https://idp3rd.org/event/adair-central-committee-meeting/
LOCATION:The Gathering Place (former Presbyterian Church)\, 102 SW Kent Street\, Greenfield\, IA\, 50849
CATEGORIES:Adair County,County Central Committee
END:VEVENT
BEGIN:VEVENT
DTSTART;TZID=America/Chicago:20230121T100000
DTEND;TZID=America/Chicago:20230121T110000
DTSTAMP:20260420T195933
CREATED:20230114T214252Z
LAST-MODIFIED:20230118T172012Z
UID:4057-1674295200-1674298800@idp3rd.org
SUMMARY:Legislative Coffee
DESCRIPTION:Ray Sorensen\, Iowa House District 23 Representative\, and Amy Sinclair\, Iowa District 12 Senator\, will be taking questions from the public regarding their activities in the Iowa Legislature. There will be a moderator.
URL:https://idp3rd.org/event/legislative-coffee/
LOCATION:The Gathering Place (former Presbyterian Church)\, 102 SW Kent Street\, Greenfield\, IA\, 50849
CATEGORIES:Adair County
END:VEVENT
END:VCALENDAR