BEGIN:VCALENDAR
VERSION:2.0
PRODID:-//Iowa Democratic Party - 3rd Congressional District - ECPv6.15.11//NONSGML v1.0//EN
CALSCALE:GREGORIAN
METHOD:PUBLISH
X-WR-CALNAME:Iowa Democratic Party - 3rd Congressional District
X-ORIGINAL-URL:https://idp3rd.org
X-WR-CALDESC:Events for Iowa Democratic Party - 3rd Congressional District
REFRESH-INTERVAL;VALUE=DURATION:PT1H
X-Robots-Tag:noindex
X-PUBLISHED-TTL:PT1H
BEGIN:VTIMEZONE
TZID:America/Chicago
BEGIN:DAYLIGHT
TZOFFSETFROM:-0600
TZOFFSETTO:-0500
TZNAME:CDT
DTSTART:20210314T080000
END:DAYLIGHT
BEGIN:STANDARD
TZOFFSETFROM:-0500
TZOFFSETTO:-0600
TZNAME:CST
DTSTART:20211107T070000
END:STANDARD
BEGIN:DAYLIGHT
TZOFFSETFROM:-0600
TZOFFSETTO:-0500
TZNAME:CDT
DTSTART:20220313T080000
END:DAYLIGHT
BEGIN:STANDARD
TZOFFSETFROM:-0500
TZOFFSETTO:-0600
TZNAME:CST
DTSTART:20221106T070000
END:STANDARD
BEGIN:DAYLIGHT
TZOFFSETFROM:-0600
TZOFFSETTO:-0500
TZNAME:CDT
DTSTART:20230312T080000
END:DAYLIGHT
BEGIN:STANDARD
TZOFFSETFROM:-0500
TZOFFSETTO:-0600
TZNAME:CST
DTSTART:20231105T070000
END:STANDARD
END:VTIMEZONE
BEGIN:VEVENT
DTSTART;TZID=America/Chicago:20221006T183000
DTEND;TZID=America/Chicago:20221006T210000
DTSTAMP:20260421T002624
CREATED:20221002T182949Z
LAST-MODIFIED:20221004T154058Z
UID:3863-1665081000-1665090000@idp3rd.org
SUMMARY:Debate Watch Party (Adair County)
DESCRIPTION:Group will gather in the lounge of the Hotel Greenfield to watch to debate between Mike Franken and Chuck Grassley. Buy your own beverage. Pizza will be supplied by the Party. All are welcome. 6:30PM at Hotel Greenfield
URL:https://idp3rd.org/event/debate-watch-party/
LOCATION:Hotel Greenfield\, 110 E. Iowa Stree\, Greenfield\, IA\, 50849\, United States
CATEGORIES:3rd District,Adair County,Candidates,Social
END:VEVENT
BEGIN:VEVENT
DTSTART;TZID=America/Chicago:20221015T180000
DTEND;TZID=America/Chicago:20221015T210000
DTSTAMP:20260421T002624
CREATED:20220829T162216Z
LAST-MODIFIED:20221013T225704Z
UID:3610-1665856800-1665867600@idp3rd.org
SUMMARY:Third District Hall of Fame Celebration
DESCRIPTION:Please join 3rd District Democrats on October 15th at 6 PM for our 5th Hall of Fame dinner. We’re excited to be hosted by Adair County Democrats this year at the Adair County Fairgrounds for our annual Hall of Fame celebration fundraiser. This event helps us raise money for the re-election of Congresswoman Cindy Axne while also recognizing the amazing volunteerism and activism of Democrats in IA03.\n(see Travel Note below) \nMENU\nBeef entree\, cheesy potatoes\, green beans with bacon\, and homemade apple crisp. Beverages: iced tea\, lemonade\, and coffee will also be provided. \nGet your tickets here: \nBuy Your Tickets Today \n2022 Hall of Fame Award Recipients \nKris Hoffman\nOutstanding County Chair\n\nJennifer Konfrst\nOutstanding State Elected Official\n\nDallas County Democrats\nOutstanding County Party\n\nMike Herbert\nOutstanding New Democrat\n\nAnne Gale\nOutstanding Supporter/Activist (Central)\n\nHeidi Carter\nOutstanding Supporter/Activist (Southwest)\n\nMary Stewart\nOutstanding Supporter/Activist (Southeast)\n\n***********\nTravel Note:\nIf traveling on I-80 from the east to Greenfield\, you’ll need to use the Stuart exit (NOT the Hwy 25 exit to Greenfield); the bridge over I-80 is closed.\nUse the Stuart exit (P28) and go south.  (You’ll see Democratic candidate signs!!)\nTurn west on Hwy 92 to Greenfield.\nTurn north onto Hwy 25 and drive about five blocks to the big sign for the Adair County Fairgrounds.
URL:https://idp3rd.org/event/third-district-hall-of-fame-celebration/
LOCATION:Adair County Fairgrounds\, 900 NE Elm St\, Greenfield\, IA\, 50849
CATEGORIES:3rd District,Adair County,Fundraiser
ATTACH;FMTTYPE=image/jpeg:https://idp3rd.org/wp-content/uploads/2022/08/HALL-OF-FAME.jpeg
END:VEVENT
BEGIN:VEVENT
DTSTART;TZID=America/Chicago:20221017T064500
DTEND;TZID=America/Chicago:20221017T201500
DTSTAMP:20260421T002624
CREATED:20221015T211237Z
LAST-MODIFIED:20221015T211237Z
UID:3980-1665989100-1666037700@idp3rd.org
SUMMARY:Gubernatorial Candidates Debate Watch Party
DESCRIPTION:Adair County Democrats are gathering to watch the debate to be aired on Iowa PBS on October 17. \nJoin us at the Hotel Greenfield Lounge @ 6:45 pm\n110 East Iowa St.
URL:https://idp3rd.org/event/gubernatorial-candidates-debate-watch-party/
LOCATION:Hotel Greenfield\, 110 E. Iowa Stree\, Greenfield\, IA\, 50849\, United States
CATEGORIES:Adair County,Candidates
END:VEVENT
BEGIN:VEVENT
DTSTART;TZID=America/Chicago:20221020T190000
DTEND;TZID=America/Chicago:20221020T190000
DTSTAMP:20260421T002624
CREATED:20221006T161204Z
LAST-MODIFIED:20221006T195943Z
UID:3913-1666292400-1666292400@idp3rd.org
SUMMARY:SW Iowa 2023 Farm Bill Dialogue
DESCRIPTION:Join this free public event. USDA farm policy affects the structure and viability of Iowa’s farm sector and therefore it impacts the overall rural economy.  Farming\, resource stewardship\, food\, fiber\, community. . . \nPanelists will offer a variety of views on farm policy and proposals for 2023 (5-yr) farm bill content.  Federal candidates provide brief comments to follow.  Panel and invited federal candidates engage with audience comments/questions. \n    Moderator:\nJohn Norris\, former Chief of Staff for USDA\, and US Minister-Counselor for Agriculture to UN Rome-based agencies including the UN Food & Agriculture Organization and World Food Program. \n    Panel:\nRandy Caviness\, Greenfield\, farmer\, Adair County and state Farm Bureau leadership; former Director\, Soil Conservation Districts of Iowa\, ISU Extension Council service; county wind energy development group;\nJD Scholten\, Sioux City\, independent farmer advocate; presenter – “Reforming American Food Retail Markets” USDA/Yale University collaborative;\nFrancis Thicke\, Fairfield\, dairy farmer; member Farmers Union; PhD in soil fertility; former program leader\, USDA-Extension Soil Science. \nImpacts the overall rural economy.  Farming\, resource stewardship\, food\, fiber\, community. . . \n  * Soulshine mobile food service onsite from 5 PM to 7 PM with carry-in menu items. \nContact person: Nancy Queck 641-343-7337
URL:https://idp3rd.org/event/sw-iowa-2023-farm-bill-dialogue/
LOCATION:Warren Cultural Center\, 154 Public Square\, Greenfield\, IA
CATEGORIES:Adair County
END:VEVENT
END:VCALENDAR