BEGIN:VCALENDAR
VERSION:2.0
PRODID:-//Iowa Democratic Party - 3rd Congressional District - ECPv6.15.11//NONSGML v1.0//EN
CALSCALE:GREGORIAN
METHOD:PUBLISH
X-ORIGINAL-URL:https://idp3rd.org
X-WR-CALDESC:Events for Iowa Democratic Party - 3rd Congressional District
REFRESH-INTERVAL;VALUE=DURATION:PT1H
X-Robots-Tag:noindex
X-PUBLISHED-TTL:PT1H
BEGIN:VTIMEZONE
TZID:America/Chicago
BEGIN:DAYLIGHT
TZOFFSETFROM:-0600
TZOFFSETTO:-0500
TZNAME:CDT
DTSTART:20210314T080000
END:DAYLIGHT
BEGIN:STANDARD
TZOFFSETFROM:-0500
TZOFFSETTO:-0600
TZNAME:CST
DTSTART:20211107T070000
END:STANDARD
BEGIN:DAYLIGHT
TZOFFSETFROM:-0600
TZOFFSETTO:-0500
TZNAME:CDT
DTSTART:20220313T080000
END:DAYLIGHT
BEGIN:STANDARD
TZOFFSETFROM:-0500
TZOFFSETTO:-0600
TZNAME:CST
DTSTART:20221106T070000
END:STANDARD
BEGIN:DAYLIGHT
TZOFFSETFROM:-0600
TZOFFSETTO:-0500
TZNAME:CDT
DTSTART:20230312T080000
END:DAYLIGHT
BEGIN:STANDARD
TZOFFSETFROM:-0500
TZOFFSETTO:-0600
TZNAME:CST
DTSTART:20231105T070000
END:STANDARD
END:VTIMEZONE
BEGIN:VEVENT
DTSTART;TZID=America/Chicago:20220625T090000
DTEND;TZID=America/Chicago:20220625T110000
DTSTAMP:20260420T204109
CREATED:20220513T171035Z
LAST-MODIFIED:20220623T143121Z
UID:1779-1656147600-1656154800@idp3rd.org
SUMMARY:Red Oak Junction Days Parade
DESCRIPTION:Parade \nLine up at 9:00.  Parade at 10:00. Bring candy and walking shoes\, some non-walking spots available.\nStay for lunch with your Dem friends.
URL:https://idp3rd.org/event/junction-days-parade/
LOCATION:Oak and Third\, Red Oak\, Oak & Third\, Red Oak\, IA\, 51566\, United States
CATEGORIES:Montgomery County,Parade
END:VEVENT
BEGIN:VEVENT
DTSTART;TZID=America/Chicago:20220625T113000
DTEND;TZID=America/Chicago:20220625T113000
DTSTAMP:20260420T204109
CREATED:20220615T173727Z
LAST-MODIFIED:20220615T173952Z
UID:2678-1656156600-1656156600@idp3rd.org
SUMMARY:Bordertown Days Parade
DESCRIPTION:Bordertown Day will be held in Lineville\, Iowa June 26\, 2021. \nActivities will begin with breakfast from 8:30 to 10 o’clock. A car show will be on the north side of the square from 10 to 2 o’clock. \nA kiddie parade will line up on the north side of the square and start at 11:30. The regular parade will line up on the south end of town and begin at noon. The parade’s theme is “United We Stand.” \nDave Watson will perform after the parade. There will also be free watermelon on the square. Kiddie and adult games will start at 1 o’clock. \nRibeye steak sandwiches\, cheesy potatoes\, and green beans will be served for an evening meal from 6 to 8 o’clock. An ice cream social will begin at 6:30. \nThe band Hired Gun will perform from 7 to 11 o’clock. A fireworks display will be held at dark. \nLineville’s Bordertown Day will also include a bounce house\, vendor show\, and concession stand. Hourly drawings will be held throughout the day on June 26th. The final drawing will follow the fireworks.
URL:https://idp3rd.org/event/bordertown-days-parade/
LOCATION:South End of Lineville\, Lineville\, IA
CATEGORIES:Parade,Wayne County
END:VEVENT
BEGIN:VEVENT
DTSTART;TZID=America/Chicago:20220625T130000
DTEND;TZID=America/Chicago:20220625T143000
DTSTAMP:20260420T204109
CREATED:20220620T140352Z
LAST-MODIFIED:20220623T150444Z
UID:2962-1656162000-1656167400@idp3rd.org
SUMMARY:Red Oak Meet and Greet with Mike Franken
DESCRIPTION:Democratic nominee for U.S. Senate Michael Franken will be hosting a Meet and Greet on June 25 from 1:00 to 2:30 p.m. at the Red Oak Public Library.\nThe address is 400 N. 2nd St. Franken was born and raised in rural northwest Iowa and is a retired three-star admiral.\nThe Meet and Greet is open to all. Take this opportunity to ask questions\, hear Franken’s story\, and learn about his vision.\nQuestions\, call Heidi Carter at 712-542-4072.
URL:https://idp3rd.org/event/meet-and-greet-with-mike-franken/
LOCATION:Red Oak Public Library\, 400 N 2nd St\, Red Oak\, IA\, 51566
CATEGORIES:Candidates,Montgomery County
END:VEVENT
BEGIN:VEVENT
DTSTART;TZID=America/Chicago:20220625T163000
DTEND;TZID=America/Chicago:20220625T180000
DTSTAMP:20260420T204109
CREATED:20220622T011004Z
LAST-MODIFIED:20220623T150748Z
UID:3132-1656174600-1656180000@idp3rd.org
SUMMARY:Shenendoah Meet and Greet with Mike Franken
DESCRIPTION:Democratic nominee for U.S. Senate Michael Franken will be hosting a Meet and Greet on June 25 from 4:30 to 6 p.m. at the Shenandoah Public Library. The address is 201 S. Elm St. Franken was born and raised in rural northwest Iowa and is a retired three-star admiral. The Meet and Greet is open to all. Take this opportunity to ask questions\, hear Franken’s story\, and learn about his vision. Questions\, call Heidi Carter at 712-542-4072.
URL:https://idp3rd.org/event/meet-and-greet-with-mike-franken-2/
LOCATION:Shenandoah Public Library\, 201 S Elm St\, Shenandoah\, IA\, 51601\, United States
CATEGORIES:Candidates,Page County
END:VEVENT
END:VCALENDAR